BEGIN:VCALENDAR
VERSION:2.0
PRODID:-//Pieper Foundation - ECPv4.2.2//NONSGML v1.0//EN
CALSCALE:GREGORIAN
METHOD:PUBLISH
X-WR-CALNAME:Pieper Foundation
X-ORIGINAL-URL:https://pieperfoundation.org
X-WR-CALDESC:Events for Pieper Foundation
BEGIN:VEVENT
DTSTART;VALUE=DATE:20161125
DTEND;VALUE=DATE:20161127
DTSTAMP:20260426T025735
CREATED:20161027
LAST-MODIFIED:20161027
UID:8246-1480032000-1480291199@pieperfoundation.org
SUMMARY:2016 Hopkins Boys Thanksgiving Tournament
DESCRIPTION:Meet Duke Pieper along with signing copies of his book I'm Alive: Courage\, Hope\, and a Miracle.
URL:https://pieperfoundation.org/event/2016-hopkins-boys-thanksgiving-tournament/
LOCATION:11000 Excelsior Blvd.\, Hopkins\, MN\, 55343\, United States
CATEGORIES:Book Signing
END:VEVENT
END:VCALENDAR