BEGIN:VCALENDAR
VERSION:2.0
PRODID:-//Pieper Foundation - ECPv4.2.2//NONSGML v1.0//EN
CALSCALE:GREGORIAN
METHOD:PUBLISH
X-WR-CALNAME:Pieper Foundation
X-ORIGINAL-URL:https://pieperfoundation.org
X-WR-CALDESC:Events for Pieper Foundation
BEGIN:VEVENT
DTSTART;TZID=UTC-6:20170316T000000
DTEND;TZID=UTC-6:20170316T130000
DTSTAMP:20260426T010851
CREATED:20161019T193317
LAST-MODIFIED:20161019T193317
UID:8227-1489622400-1489669200@pieperfoundation.org
SUMMARY:Anoka Ramsey Community College
DESCRIPTION:Hear Duke Pieper share his life changing story.
URL:https://pieperfoundation.org/event/anoka-ramsey-community-college/
LOCATION:11200 Mississippi Blvd.\, Coon Rapids\, MN\, 55433\, United States
CATEGORIES:Speech
END:VEVENT
END:VCALENDAR