BEGIN:VCALENDAR
VERSION:2.0
PRODID:-//Pieper Foundation - ECPv4.2.2//NONSGML v1.0//EN
CALSCALE:GREGORIAN
METHOD:PUBLISH
X-WR-CALNAME:Pieper Foundation
X-ORIGINAL-URL:https://pieperfoundation.org
X-WR-CALDESC:Events for Pieper Foundation
BEGIN:VEVENT
DTSTART;TZID=UTC-6:20190416T100000
DTEND;TZID=UTC-6:20190416T120000
DTSTAMP:20260425T201753
CREATED:20190209T032653
LAST-MODIFIED:20190209T032653
UID:9230-1555408800-1555416000@pieperfoundation.org
SUMMARY:Children's Hospital
DESCRIPTION:Come meet Duke Pieper and hear him share his inspirational story along with signing copies of his book I'm Alive: courage\, hope\, and a miracle.
URL:https://pieperfoundation.org/event/childrens-hospital/
LOCATION:2525 Chicago Ave.\, Minneapolis\, MN\, 55404\, United States
CATEGORIES:Speech
END:VEVENT
END:VCALENDAR