BEGIN:VCALENDAR
VERSION:2.0
PRODID:-//Pieper Foundation - ECPv4.2.2//NONSGML v1.0//EN
CALSCALE:GREGORIAN
METHOD:PUBLISH
X-WR-CALNAME:Pieper Foundation
X-ORIGINAL-URL:https://pieperfoundation.org
X-WR-CALDESC:Events for Pieper Foundation
BEGIN:VEVENT
DTSTART;TZID=UTC-6:20181120T160000
DTEND;TZID=UTC-6:20181120T200000
DTSTAMP:20260425T184449
CREATED:20181119T162331
LAST-MODIFIED:20181119T162331
UID:9208-1542729600-1542744000@pieperfoundation.org
SUMMARY:Chipotle Fundraiser
DESCRIPTION:Join us at Chipotle November 20th between 4:00pm. and 8:00pm. for a fundraiser to support The Pieper Hope and Courage Foundation. Just come in to the Chipotle at 800 Washington Ave. SE. in Minneapolis and tell the cashier at checkout that your supporting the cause to make sure that 33% of the proceeds will be donated to The Pieper Foundation.
URL:https://pieperfoundation.org/event/chipotle-fundraiser/
LOCATION:800 Washington Ave. S.E.\, Minneapolis\, MN\, 55414\, United States
CATEGORIES:Media
END:VEVENT
END:VCALENDAR