BEGIN:VCALENDAR
VERSION:2.0
PRODID:-//Pieper Foundation - ECPv4.2.2//NONSGML v1.0//EN
CALSCALE:GREGORIAN
METHOD:PUBLISH
X-WR-CALNAME:Pieper Foundation
X-ORIGINAL-URL:https://pieperfoundation.org
X-WR-CALDESC:Events for Pieper Foundation
BEGIN:VEVENT
DTSTART;TZID=UTC-6:20171016T090000
DTEND;TZID=UTC-6:20171016T100000
DTSTAMP:20260426T023928
CREATED:20171106T181836
LAST-MODIFIED:20171106T181836
UID:8594-1508144400-1508148000@pieperfoundation.org
SUMMARY:Coon Rapids Rotary Club
DESCRIPTION:Come meet Duke Pieper and hear him share his life-changing story along with signing copies of his book I'm Alive: courage\, hope\, and a miracle
URL:https://pieperfoundation.org/event/coon-rapids-rotary-club/
LOCATION:12800 Bunker Prairie Rd. NW\, Coon Rapids\, MN\, 55448\, United States
CATEGORIES:Speech
END:VEVENT
END:VCALENDAR