BEGIN:VCALENDAR
VERSION:2.0
PRODID:-//Pieper Foundation - ECPv4.2.2//NONSGML v1.0//EN
CALSCALE:GREGORIAN
METHOD:PUBLISH
X-WR-CALNAME:Pieper Foundation
X-ORIGINAL-URL:https://pieperfoundation.org
X-WR-CALDESC:Events for Pieper Foundation
BEGIN:VEVENT
DTSTART;TZID=UTC-6:20161111T120000
DTEND;TZID=UTC-6:20161112T170000
DTSTAMP:20260426T025746
CREATED:20161019T190429
LAST-MODIFIED:20161019T190429
UID:8220-1478865600-1478970000@pieperfoundation.org
SUMMARY:Eden Prairie Hockey Association Individual Tournament
DESCRIPTION:Come meet Duke Pieper signing his book I'm Alive: courage\, hope\, and a miracle.
URL:https://pieperfoundation.org/event/eden-prairie-hockey-association-individual-tournament/
LOCATION:16700 Valley View Rd.\, Eden Prairie\, MN\, 55346\, United States
CATEGORIES:Book Signing
END:VEVENT
END:VCALENDAR