BEGIN:VCALENDAR
VERSION:2.0
PRODID:-//Pieper Foundation - ECPv4.2.2//NONSGML v1.0//EN
CALSCALE:GREGORIAN
METHOD:PUBLISH
X-WR-CALNAME:Pieper Foundation
X-ORIGINAL-URL:https://pieperfoundation.org
X-WR-CALDESC:Events for Pieper Foundation
BEGIN:VEVENT
DTSTART;TZID=UTC-6:20180131T080000
DTEND;TZID=UTC-6:20180131T090000
DTSTAMP:20260425T202344
CREATED:20180124T195949
LAST-MODIFIED:20180128T232614
UID:8629-1517385600-1517389200@pieperfoundation.org
SUMMARY:Farmington High School
DESCRIPTION:Come meet Duke Pieper and hear him share his life changing story along with signing copies of his book I'm Alive: Courage\, Hope\, and a Miracle.
URL:https://pieperfoundation.org/event/farmington-high-school/
LOCATION:20655 Flagstaff Ave.\, Farmington\, MN\, 55024\, United States
CATEGORIES:Speech
END:VEVENT
END:VCALENDAR