BEGIN:VCALENDAR
VERSION:2.0
PRODID:-//Pieper Foundation - ECPv4.2.2//NONSGML v1.0//EN
CALSCALE:GREGORIAN
METHOD:PUBLISH
X-WR-CALNAME:Pieper Foundation
X-ORIGINAL-URL:https://pieperfoundation.org
X-WR-CALDESC:Events for Pieper Foundation
BEGIN:VEVENT
DTSTART;TZID=UTC-6:20161203T070000
DTEND;TZID=UTC-6:20161203T200000
DTSTAMP:20260425T232819
CREATED:20161019T192408
LAST-MODIFIED:20161130T042716
UID:8225-1480748400-1480795200@pieperfoundation.org
SUMMARY:Gopher Pre-Game Show
DESCRIPTION:Watch Duke Pieper talking about his story along with his non-profit foundation during the first intermission of the Gopher Vs. Ohio State hockey game.
URL:https://pieperfoundation.org/event/gopher-pre-game-show/
LOCATION:800 Lasalle Ave. #200\, Minneapolis\, MN\, 55402\, United States
CATEGORIES:Media
END:VEVENT
END:VCALENDAR