BEGIN:VCALENDAR
VERSION:2.0
PRODID:-//Pieper Foundation - ECPv4.2.2//NONSGML v1.0//EN
CALSCALE:GREGORIAN
METHOD:PUBLISH
X-WR-CALNAME:Pieper Foundation
X-ORIGINAL-URL:https://pieperfoundation.org
X-WR-CALDESC:Events for Pieper Foundation
BEGIN:VEVENT
DTSTART;TZID=UTC-6:20170119T170000
DTEND;TZID=UTC-6:20170119T180000
DTSTAMP:20260426T041758
CREATED:20161006T203147
LAST-MODIFIED:20161006T203147
UID:8211-1484845200-1484848800@pieperfoundation.org
SUMMARY:Great River Regional Library
DESCRIPTION:Hear Duke Pieper share his inspirational story along with signing copies of his book I'm Alive: courage\, hope\, and a miracle.
URL:https://pieperfoundation.org/event/great-river-regional-library/
LOCATION:122 6th St. NE\, Staples\, MN\, 56479\, United States
CATEGORIES:Book Signing,Speech
END:VEVENT
END:VCALENDAR