BEGIN:VCALENDAR
VERSION:2.0
PRODID:-//Pieper Foundation - ECPv4.2.2//NONSGML v1.0//EN
CALSCALE:GREGORIAN
METHOD:PUBLISH
X-WR-CALNAME:Pieper Foundation
X-ORIGINAL-URL:https://pieperfoundation.org
X-WR-CALDESC:Events for Pieper Foundation
BEGIN:VEVENT
DTSTART;TZID=UTC-6:20161214T073000
DTEND;TZID=UTC-6:20161214T083000
DTSTAMP:20260426T030905
CREATED:20161114T225024
LAST-MODIFIED:20161114T225024
UID:8269-1481700600-1481704200@pieperfoundation.org
SUMMARY:Minnetonka Rotary Club
DESCRIPTION:Hear Duke Pieper share his life-changing story along with signing copies of his book I'm Alive: courage\, hope\, and a miracle.
URL:https://pieperfoundation.org/event/minnetonka-rotary-club/
LOCATION:1001 MN-7\, Hopkins\, MN\, 55305\, United States
CATEGORIES:Speech
END:VEVENT
END:VCALENDAR