BEGIN:VCALENDAR
VERSION:2.0
PRODID:-//Pieper Foundation - ECPv4.2.2//NONSGML v1.0//EN
CALSCALE:GREGORIAN
METHOD:PUBLISH
X-WR-CALNAME:Pieper Foundation
X-ORIGINAL-URL:https://pieperfoundation.org
X-WR-CALDESC:Events for Pieper Foundation
BEGIN:VEVENT
DTSTART;TZID=UTC-6:20170820T090000
DTEND;TZID=UTC-6:20170820T094500
DTSTAMP:20260426T042004
CREATED:20170803T190301
LAST-MODIFIED:20170803T190312
UID:8526-1503219600-1503222300@pieperfoundation.org
SUMMARY:Motley Free Methodist Church
DESCRIPTION:Come meet Duke Pieper and hear him share his life-changing story along with signing copies of his book I'm Alive: Courage\, Hope\, and a Miracle.
URL:https://pieperfoundation.org/event/motley-free-methodist-church/
LOCATION:33 Wellwood St\,\, Motley\, MN\, 56466\, United States
CATEGORIES:Speech
END:VEVENT
END:VCALENDAR