BEGIN:VCALENDAR
VERSION:2.0
PRODID:-//Pieper Foundation - ECPv4.2.2//NONSGML v1.0//EN
CALSCALE:GREGORIAN
METHOD:PUBLISH
X-WR-CALNAME:Pieper Foundation
X-ORIGINAL-URL:https://pieperfoundation.org
X-WR-CALDESC:Events for Pieper Foundation
BEGIN:VEVENT
DTSTART;TZID=UTC-6:20161128T000000
DTEND;TZID=UTC-6:20161128T130000
DTSTAMP:20260426T042653
CREATED:20160831T144640
LAST-MODIFIED:20160831T144640
UID:8177-1480291200-1480338000@pieperfoundation.org
SUMMARY:Roseville Rotary Club
DESCRIPTION:Hear Duke Pieper share his inspirational story along with signing copies of his book I'm Alive: Courage\, Hope\, and a Miracle.
URL:https://pieperfoundation.org/event/roseville-rotary-club/
LOCATION:2540 N. Cleveland Ave.\, Roseville\, MN\, 55113\, United States
CATEGORIES:Speech
END:VEVENT
END:VCALENDAR