BEGIN:VCALENDAR
VERSION:2.0
PRODID:-//Pieper Foundation - ECPv4.2.2//NONSGML v1.0//EN
CALSCALE:GREGORIAN
METHOD:PUBLISH
X-WR-CALNAME:Pieper Foundation
X-ORIGINAL-URL:https://pieperfoundation.org
X-WR-CALDESC:Events for Pieper Foundation
BEGIN:VEVENT
DTSTART;TZID=UTC-6:20171025T080000
DTEND;TZID=UTC-6:20171025T100000
DTSTAMP:20260426T010759
CREATED:20171106T182335
LAST-MODIFIED:20171106T182335
UID:8598-1508918400-1508925600@pieperfoundation.org
SUMMARY:Rotary Club
DESCRIPTION:Come meet Duke Pieper and here him share his inspirational story along with signing copies of his book I'm Alive: courage\, hope\, and a miracle.
URL:https://pieperfoundation.org/event/rotary-club-2/
LOCATION:2800 Northview Road\, Minnetonka Beach \, MN\, 55361\, United States
CATEGORIES:Speech
END:VEVENT
END:VCALENDAR