BEGIN:VCALENDAR
VERSION:2.0
PRODID:-//Pieper Foundation - ECPv4.2.2//NONSGML v1.0//EN
CALSCALE:GREGORIAN
METHOD:PUBLISH
X-WR-CALNAME:Pieper Foundation
X-ORIGINAL-URL:https://pieperfoundation.org
X-WR-CALDESC:Events for Pieper Foundation
BEGIN:VEVENT
DTSTART;TZID=UTC-6:20170314T070000
DTEND;TZID=UTC-6:20170314T080000
DTSTAMP:20260426T043628
CREATED:20170214T074846
LAST-MODIFIED:20170214T074846
UID:8446-1489474800-1489478400@pieperfoundation.org
SUMMARY:Stillwater Rotary Club
DESCRIPTION:Hear Duke Pieper share his inspirational story along with signing copies of his book I'm Alive: courage\, hope\, and a miracle.
URL:https://pieperfoundation.org/event/stillwater-rotary-club/
LOCATION:102 2nd St. N.\, Stillwater\, MN\, 55082\, United States
CATEGORIES:Speech
END:VEVENT
END:VCALENDAR