BEGIN:VCALENDAR
VERSION:2.0
PRODID:-//Pieper Foundation - ECPv4.2.2//NONSGML v1.0//EN
CALSCALE:GREGORIAN
METHOD:PUBLISH
X-WR-CALNAME:Pieper Foundation
X-ORIGINAL-URL:https://pieperfoundation.org
X-WR-CALDESC:Events for Pieper Foundation
BEGIN:VEVENT
DTSTART;TZID=UTC-6:20180917T100000
DTEND;TZID=UTC-6:20180917T113000
DTSTAMP:20260425T184442
CREATED:20180910T132240
LAST-MODIFIED:20180910T132240
UID:9201-1537178400-1537183800@pieperfoundation.org
SUMMARY:The BS Show
DESCRIPTION:Come and hear Duke Pieper talk about his inspirational story along with his non-profit foundation on the BS Show. We will posting a link the day of on twitter\, instagram\, and facebook where you can go listen to the podcast.
URL:https://pieperfoundation.org/event/the-bs-show/
LOCATION:5105 Parkdale Dr.\, Minneapolis\, MN\, 55416\, United States
CATEGORIES:Media
END:VEVENT
END:VCALENDAR