BEGIN:VCALENDAR
VERSION:2.0
PRODID:-//Pieper Foundation - ECPv4.2.2//NONSGML v1.0//EN
CALSCALE:GREGORIAN
METHOD:PUBLISH
X-WR-CALNAME:Pieper Foundation
X-ORIGINAL-URL:https://pieperfoundation.org
X-WR-CALDESC:Events for Pieper Foundation
BEGIN:VEVENT
DTSTART;TZID=UTC-6:20181013T100000
DTEND;TZID=UTC-6:20181013T170000
DTSTAMP:20260425T184624
CREATED:20180725T120821
LAST-MODIFIED:20180910T132619
UID:9193-1539424800-1539450000@pieperfoundation.org
SUMMARY:Twin Cities Book Festival
DESCRIPTION:Come meet Duke Pieper and hear his inspirational story along with grabbing a personalized signed copy of his book I'm Alive: Courage\, Hope\, and a Miracle
URL:https://pieperfoundation.org/event/twin-cities-book-festival/
LOCATION:1265 Snelling Ave N.\, Saint Paul\, MN\, 55118\, United States
CATEGORIES:Book Signing
END:VEVENT
END:VCALENDAR