BEGIN:VCALENDAR
VERSION:2.0
PRODID:-//Pieper Foundation - ECPv4.2.2//NONSGML v1.0//EN
CALSCALE:GREGORIAN
METHOD:PUBLISH
X-WR-CALNAME:Pieper Foundation
X-ORIGINAL-URL:https://pieperfoundation.org
X-WR-CALDESC:Events for Pieper Foundation
BEGIN:VEVENT
DTSTART;TZID=UTC-6:20180722T110000
DTEND;TZID=UTC-6:20180722T120000
DTSTAMP:20260425T184501
CREATED:20180725T115210
LAST-MODIFIED:20180725T115210
UID:9188-1532257200-1532260800@pieperfoundation.org
SUMMARY:Twin Cities Podcast
DESCRIPTION:Come listen to Duke Pieper sharing his story with Twin Cities Podcast about how he overcame challenges and obstacles he faced on his journey from recovery.
URL:https://pieperfoundation.org/event/twin-cities-podcast/
LOCATION:3110 Upper 71st. St. E.\, Inver Grove Heights\, MN\, 55076\, United States
CATEGORIES:Media
END:VEVENT
END:VCALENDAR