BEGIN:VCALENDAR
VERSION:2.0
PRODID:-//Pieper Foundation - ECPv4.2.2//NONSGML v1.0//EN
CALSCALE:GREGORIAN
METHOD:PUBLISH
X-WR-CALNAME:Pieper Foundation
X-ORIGINAL-URL:https://pieperfoundation.org
X-WR-CALDESC:Events for Pieper Foundation
BEGIN:VEVENT
DTSTART;TZID=UTC-6:20170406T073000
DTEND;TZID=UTC-6:20170406T203000
DTSTAMP:20260426T041947
CREATED:20161229T201549
LAST-MODIFIED:20161229T201549
UID:8345-1491463800-1491510600@pieperfoundation.org
SUMMARY:Uptown Rotary Club
DESCRIPTION:Hear Duke Pieper share his story along with signing copies of his book I'm Alive: courage\, hope\, and a miracle.
URL:https://pieperfoundation.org/event/uptown-rotary-club/
LOCATION: 3205 Excelsior Blvd.\, Minneapolis\, MN\, 55416\, United States
CATEGORIES:Speech
END:VEVENT
END:VCALENDAR